BEGIN:VCALENDAR
PRODID:-//Microsoft Corporation//Outlook 12.0 MIMEDIR//EN
VERSION:2.0
CALSCALE:GREGORIAN
BEGIN:VEVENT
UID: 127d0cb7-5e13-44fa-9369-09e80646ff31
SUMMARY:RKÕ õppekäik: Vaivara Sinimägede Muuseum (10.cd)
DTSTAMP:20231120T123000
DTSTART:20231120T123000
DTEND:20231120T143000
LOCATION:Sinimäe
DESCRIPTION: <p><strong>Link: </strong>https://johvig.ee/sundmuste-kalender/rko-oppekaik-vaivara-sinimagede-muuseum-10cd</p><p><strong>Hind: </strong></p>
STATUS:CONFIRMED
SEQUENCE:3
X-ALT-DESC;FMTTYPE=text/html:<p><strong>Link: </strong>https://johvig.ee/sundmuste-kalender/rko-oppekaik-vaivara-sinimagede-muuseum-10cd</p><p><strong>Hind: </strong></p>
X-MICROSOFT-CDO-BUSYSTATUS:OOF
X-MICROSOFT-CDO-IMPORTANCE:1
X-MICROSOFT-DISALLOW-COUNTER:FALSE
X-MS-OLK-ALLOWEXTERNCHECK:TRUE
X-MS-OLK-CONFTYPE:0
X-MICROSOFT-CDO-ALLDAYEVENT:
X-MICROSOFT-MSNCALENDAR-ALLDAYEVENT:
END:VEVENT
END:VCALENDAR