BEGIN:VCALENDAR
PRODID:-//Microsoft Corporation//Outlook 12.0 MIMEDIR//EN
VERSION:2.0
CALSCALE:GREGORIAN
BEGIN:VEVENT
UID: 2e95005f-2fb3-484f-aa0c-88bbf78a8907
SUMMARY:UPT: "Gymnasium Genius Quest" (2.o)
DTSTAMP:20231204T161000
DTSTART:20231204T161000
DTEND:20231204T170000
LOCATION:Jõhvi Gümnaasiumi aatrium
DESCRIPTION: <p><strong>Link: </strong>https://johvig.ee/sundmuste-kalender/upt-gymnasium-genius-quest-2o</p><p><strong>Hind: </strong></p>
STATUS:CONFIRMED
SEQUENCE:3
X-ALT-DESC;FMTTYPE=text/html:<p><strong>Link: </strong>https://johvig.ee/sundmuste-kalender/upt-gymnasium-genius-quest-2o</p><p><strong>Hind: </strong></p>
X-MICROSOFT-CDO-BUSYSTATUS:OOF
X-MICROSOFT-CDO-IMPORTANCE:1
X-MICROSOFT-DISALLOW-COUNTER:FALSE
X-MS-OLK-ALLOWEXTERNCHECK:TRUE
X-MS-OLK-CONFTYPE:0
X-MICROSOFT-CDO-ALLDAYEVENT:
X-MICROSOFT-MSNCALENDAR-ALLDAYEVENT:
END:VEVENT
END:VCALENDAR