BEGIN:VCALENDAR
PRODID:-//Microsoft Corporation//Outlook 12.0 MIMEDIR//EN
VERSION:2.0
CALSCALE:GREGORIAN
BEGIN:VEVENT
UID: e1b7f0dc-6ac6-45ef-b3c1-bcdfa2dcbd5e
SUMMARY:Vastuvõtt 2024/25: Gümnasisti varju nädal / vol 1
DTSTAMP:20240129
DTSTART:20240129
DTEND:20240203
DURATION:P5D
LOCATION:Jõhvi Gümnaasium
DESCRIPTION: <p><strong>Link: </strong>https://johvig.ee/sundmuste-kalender/vastuvott-202425-gumnasisti-varju-nadal-vol-1</p><p><strong>Hind: </strong></p>
STATUS:CONFIRMED
SEQUENCE:3
X-ALT-DESC;FMTTYPE=text/html:<p><strong>Link: </strong>https://johvig.ee/sundmuste-kalender/vastuvott-202425-gumnasisti-varju-nadal-vol-1</p><p><strong>Hind: </strong></p>
X-MICROSOFT-CDO-BUSYSTATUS:OOF
X-MICROSOFT-CDO-IMPORTANCE:1
X-MICROSOFT-DISALLOW-COUNTER:FALSE
X-MS-OLK-ALLOWEXTERNCHECK:TRUE
X-MS-OLK-CONFTYPE:0
X-MICROSOFT-CDO-ALLDAYEVENT:1
X-MICROSOFT-MSNCALENDAR-ALLDAYEVENT:1
END:VEVENT
END:VCALENDAR