BEGIN:VCALENDAR
PRODID:-//Microsoft Corporation//Outlook 12.0 MIMEDIR//EN
VERSION:2.0
CALSCALE:GREGORIAN
BEGIN:VEVENT
UID: 1b695461-894b-4a3f-87c1-bd782b4eb3ec
SUMMARY:HARNO: eesti k II k e-riigieksami katsetus (12.cdef)
DTSTAMP:20240221T090000
DTSTART:20240221T090000
DTEND:20240221T150500
LOCATION:Jõhvi Gümnaasium
DESCRIPTION: <p><strong>Link: </strong>https://johvig.ee/sundmuste-kalender/harno-eesti-k-ii-k-e-riigieksami-katsetus-12cdef-0</p><p><strong>Hind: </strong></p>
STATUS:CONFIRMED
SEQUENCE:3
X-ALT-DESC;FMTTYPE=text/html:<p><strong>Link: </strong>https://johvig.ee/sundmuste-kalender/harno-eesti-k-ii-k-e-riigieksami-katsetus-12cdef-0</p><p><strong>Hind: </strong></p>
X-MICROSOFT-CDO-BUSYSTATUS:OOF
X-MICROSOFT-CDO-IMPORTANCE:1
X-MICROSOFT-DISALLOW-COUNTER:FALSE
X-MS-OLK-ALLOWEXTERNCHECK:TRUE
X-MS-OLK-CONFTYPE:0
X-MICROSOFT-CDO-ALLDAYEVENT:
X-MICROSOFT-MSNCALENDAR-ALLDAYEVENT:
END:VEVENT
END:VCALENDAR