BEGIN:VCALENDAR
PRODID:-//Microsoft Corporation//Outlook 12.0 MIMEDIR//EN
VERSION:2.0
CALSCALE:GREGORIAN
BEGIN:VEVENT
UID: 17b5efad-8f96-4b79-a9b0-01d11d758049
SUMMARY:Vaimse tervise nädal
DTSTAMP:20241007
DTSTART:20241007
DTEND:20241012
DURATION:P5D
LOCATION:Jõhvi Gümnaasium
DESCRIPTION: <p>Info Stuudiumis</p><p><strong>Link: </strong>https://johvig.ee/sundmuste-kalender/vaimse-tervise-nadal-0</p><p><strong>Hind: </strong></p>
STATUS:CONFIRMED
SEQUENCE:3
X-ALT-DESC;FMTTYPE=text/html:<p>Info Stuudiumis</p><p><strong>Link: </strong>https://johvig.ee/sundmuste-kalender/vaimse-tervise-nadal-0</p><p><strong>Hind: </strong></p>
X-MICROSOFT-CDO-BUSYSTATUS:OOF
X-MICROSOFT-CDO-IMPORTANCE:1
X-MICROSOFT-DISALLOW-COUNTER:FALSE
X-MS-OLK-ALLOWEXTERNCHECK:TRUE
X-MS-OLK-CONFTYPE:0
X-MICROSOFT-CDO-ALLDAYEVENT:1
X-MICROSOFT-MSNCALENDAR-ALLDAYEVENT:1
END:VEVENT
END:VCALENDAR