BEGIN:VCALENDAR
PRODID:-//Microsoft Corporation//Outlook 12.0 MIMEDIR//EN
VERSION:2.0
CALSCALE:GREGORIAN
BEGIN:VEVENT
UID: 5ad0c0df-1d25-4f8f-859e-1566b87cc4a1
SUMMARY:JG aastalõpuball
DTSTAMP:20241219T180000
DTSTART:20241219T180000
DTEND:20241219T230000
LOCATION:Jõhvi Gümnaasiumi aatrium
DESCRIPTION: <p><strong>Link: </strong>https://johvig.ee/sundmuste-kalender/jg-aastalopuball-0</p><p><strong>Hind: </strong></p>
STATUS:CONFIRMED
SEQUENCE:3
X-ALT-DESC;FMTTYPE=text/html:<p><strong>Link: </strong>https://johvig.ee/sundmuste-kalender/jg-aastalopuball-0</p><p><strong>Hind: </strong></p>
X-MICROSOFT-CDO-BUSYSTATUS:OOF
X-MICROSOFT-CDO-IMPORTANCE:1
X-MICROSOFT-DISALLOW-COUNTER:FALSE
X-MS-OLK-ALLOWEXTERNCHECK:TRUE
X-MS-OLK-CONFTYPE:0
X-MICROSOFT-CDO-ALLDAYEVENT:
X-MICROSOFT-MSNCALENDAR-ALLDAYEVENT:
END:VEVENT
END:VCALENDAR