BEGIN:VCALENDAR
PRODID:-//Microsoft Corporation//Outlook 12.0 MIMEDIR//EN
VERSION:2.0
CALSCALE:GREGORIAN
BEGIN:VEVENT
UID: a845e32a-1266-4d13-bb5d-a61d18ff0752
SUMMARY:Vastuvõtt 2026/27: Infotund 9. kl õpilastele ja vanematele
DTSTAMP:20260428T180000
DTSTART:20260428T180000
DTEND:20260428T193000
LOCATION:veebis
DESCRIPTION: <p>Kutsume 9. kl klasside õpilasi ja lapsevanemaid infotunnile, kus tutvustame 2026/27. õa-ks 10. klassidesse vastuvõttu.</p><p>Infotund toimub veebis ning on eelregistreerimisega:</p><p><a href="https://forms.gle/9sT6SJLwEtbSMo1f8">https://forms.gle/9sT6SJLwEtbSMo1f8</a>&nbsp;</p><p><strong>Link: </strong>https://johvig.ee/sundmuste-kalender/vastuvott-202627-infotund-9-kl-opilastele-ja-vanematele</p><p><strong>Hind: </strong></p>
STATUS:CONFIRMED
SEQUENCE:3
X-ALT-DESC;FMTTYPE=text/html:<p>Kutsume 9. kl klasside õpilasi ja lapsevanemaid infotunnile, kus tutvustame 2026/27. õa-ks 10. klassidesse vastuvõttu.</p><p>Infotund toimub veebis ning on eelregistreerimisega:</p><p><a href="https://forms.gle/9sT6SJLwEtbSMo1f8">https://forms.gle/9sT6SJLwEtbSMo1f8</a>&nbsp;</p><p><strong>Link: </strong>https://johvig.ee/sundmuste-kalender/vastuvott-202627-infotund-9-kl-opilastele-ja-vanematele</p><p><strong>Hind: </strong></p>
X-MICROSOFT-CDO-BUSYSTATUS:OOF
X-MICROSOFT-CDO-IMPORTANCE:1
X-MICROSOFT-DISALLOW-COUNTER:FALSE
X-MS-OLK-ALLOWEXTERNCHECK:TRUE
X-MS-OLK-CONFTYPE:0
X-MICROSOFT-CDO-ALLDAYEVENT:
X-MICROSOFT-MSNCALENDAR-ALLDAYEVENT:
END:VEVENT
END:VCALENDAR