BEGIN:VCALENDAR
PRODID:-//Microsoft Corporation//Outlook 12.0 MIMEDIR//EN
VERSION:2.0
CALSCALE:GREGORIAN
BEGIN:VEVENT
UID: a6b4ef0a-a27f-41e0-b84f-74b1addf82c2
SUMMARY:IX kindral Aleksander Tõnissoni ajalookonverents “Taasiseseisvumine. 35 aastat Jõhvi linnaõiguste taastamisest“
DTSTAMP:20260422T100000
DTSTART:20260422T100000
DTEND:20260422T153000
LOCATION:Jõhvi Kontserdimaja
DESCRIPTION: <p>https://johvimuuseum.ee/kindral-aleksander-tonissoni-ajalookonverents-keskendub-35-aastat-tagasi-johvi-linnaoiguste-taastamisega-seotud-sundmustele/</p><p><strong>Link: </strong>https://johvig.ee/sundmuste-kalender/ix-kindral-aleksander-tonissoni-ajalookonverents-taasiseseisvumine-35-aastat-johvi-linnaoiguste</p><p><strong>Hind: </strong></p>
STATUS:CONFIRMED
SEQUENCE:3
X-ALT-DESC;FMTTYPE=text/html:<p>https://johvimuuseum.ee/kindral-aleksander-tonissoni-ajalookonverents-keskendub-35-aastat-tagasi-johvi-linnaoiguste-taastamisega-seotud-sundmustele/</p><p><strong>Link: </strong>https://johvig.ee/sundmuste-kalender/ix-kindral-aleksander-tonissoni-ajalookonverents-taasiseseisvumine-35-aastat-johvi-linnaoiguste</p><p><strong>Hind: </strong></p>
X-MICROSOFT-CDO-BUSYSTATUS:OOF
X-MICROSOFT-CDO-IMPORTANCE:1
X-MICROSOFT-DISALLOW-COUNTER:FALSE
X-MS-OLK-ALLOWEXTERNCHECK:TRUE
X-MS-OLK-CONFTYPE:0
X-MICROSOFT-CDO-ALLDAYEVENT:
X-MICROSOFT-MSNCALENDAR-ALLDAYEVENT:
END:VEVENT
END:VCALENDAR