BEGIN:VCALENDAR
PRODID:-//Microsoft Corporation//Outlook 12.0 MIMEDIR//EN
VERSION:2.0
CALSCALE:GREGORIAN
BEGIN:VEVENT
UID: 2bf32287-a125-42a3-bd55-3ca8eda81846
SUMMARY:Riigigümnaasiumide pallimängude festival
DTSTAMP:20260425
DTSTART:20260425
DTEND:20260427
DURATION:P2D
LOCATION:Tallinna Mustamäe Riigigümnaasium
DESCRIPTION: <p><strong>Link: </strong>https://johvig.ee/sundmuste-kalender/riigigumnaasiumide-pallimangude-festival</p><p><strong>Hind: </strong></p>
STATUS:CONFIRMED
SEQUENCE:3
X-ALT-DESC;FMTTYPE=text/html:<p><strong>Link: </strong>https://johvig.ee/sundmuste-kalender/riigigumnaasiumide-pallimangude-festival</p><p><strong>Hind: </strong></p>
X-MICROSOFT-CDO-BUSYSTATUS:OOF
X-MICROSOFT-CDO-IMPORTANCE:1
X-MICROSOFT-DISALLOW-COUNTER:FALSE
X-MS-OLK-ALLOWEXTERNCHECK:TRUE
X-MS-OLK-CONFTYPE:0
X-MICROSOFT-CDO-ALLDAYEVENT:1
X-MICROSOFT-MSNCALENDAR-ALLDAYEVENT:1
END:VEVENT
END:VCALENDAR